BEGIN:VCALENDAR
VERSION:2.0
PRODID:-//Tukios.com/
BEGIN:VEVENT
UID:20b9122c-fab9-4f17-9104-1d0a4e09b99f@obituaries.bladenfuneralhome.com
DTSTAMP:20260420T000354Z
DTSTART:20260423T193000Z
DTEND:20260423T201500Z
SUMMARY:Visitation
DESCRIPTION:
URL:https://obituaries.bladenfuneralhome.com/obituaries/john-byrd-sr
LOCATION:Center Road Baptist Church 2484 Center Rd  Bladenboro NC 28320
GEO:34.631803;-78.7507646
END:VEVENT
END:VCALENDAR