BEGIN:VCALENDAR
VERSION:2.0
PRODID:-//Tukios.com/
BEGIN:VEVENT
UID:b239d917-ffd8-42bc-b22f-124e9ac7b8f1@obituaries.bladenfuneralhome.com
DTSTAMP:20260419T235730Z
DTSTART:20260423T203000Z
DTEND:20260423T213000Z
SUMMARY:Funeral Service
DESCRIPTION:
URL:https://obituaries.bladenfuneralhome.com/obituaries/john-byrd-sr
LOCATION:Center Road Baptist Church 2484 Center Rd  Bladenboro NC 28320
GEO:34.631803;-78.7507646
END:VEVENT
END:VCALENDAR