BEGIN:VCALENDAR
VERSION:2.0
PRODID:-//Tukios.com/
BEGIN:VEVENT
UID:dbf55a05-52e0-4d20-be00-4389a80b4f3a@obituaries.bladenfuneralhome.com
DTSTAMP:20260419T235730Z
DTSTART:20260423T211500Z
DTEND:20260423T221500Z
SUMMARY:Burial
DESCRIPTION:
URL:https://obituaries.bladenfuneralhome.com/obituaries/john-byrd-sr
LOCATION: 3358 Center Rd  Bladenboro NC 28320
GEO:34.6272825;-78.7652647
END:VEVENT
END:VCALENDAR