BEGIN:VCALENDAR
VERSION:2.0
PRODID:-//Tukios.com/
BEGIN:VEVENT
UID:3865f5ea-c1f2-48c6-bba9-176aba420907@obituaries.bladenfuneralhome.com
DTSTAMP:20260424T052147Z
DTSTART:20260427T150000Z
DTEND:20260427T160000Z
SUMMARY:Funeral Service
DESCRIPTION:
URL:https://obituaries.bladenfuneralhome.com/obituaries/paula-smith
LOCATION: 3131 M.L.K. Dr  Elizabethtown NC 28337
GEO:34.6029567;-78.6321161
END:VEVENT
END:VCALENDAR