BEGIN:VCALENDAR
VERSION:2.0
PRODID:-//Tukios.com/
BEGIN:VEVENT
UID:e2d93abb-acce-46b7-b0a0-c3eced6fe6b7@obituaries.bladenfuneralhome.com
DTSTAMP:20260424T051743Z
DTSTART:20260426T200000Z
DTEND:20260426T220000Z
SUMMARY:Visitation with Family & Friends
DESCRIPTION:
URL:https://obituaries.bladenfuneralhome.com/obituaries/paula-smith
LOCATION: 3131 M.L.K. Dr  Elizabethtown NC 28337
GEO:34.6029567;-78.6321161
END:VEVENT
END:VCALENDAR