BEGIN:VCALENDAR
VERSION:2.0
PRODID:-//Tukios.com/
BEGIN:VEVENT
UID:ae2871c7-3a90-4ef5-a7c7-830fa88a3fb5@obituaries.bladenfuneralhome.com
DTSTAMP:20260424T052024Z
DTSTART:20260427
SUMMARY:Burial
DESCRIPTION:
URL:https://obituaries.bladenfuneralhome.com/obituaries/paula-smith
LOCATION:Barnes Family Cemetery Near 1601 Peter Cromartie Road  Garland 
	NC 28441
GEO:34.7690971;-78.4361691
END:VEVENT
END:VCALENDAR